BEGIN:VCALENDAR
VERSION:2.0
PRODID:-//Sabre//Sabre VObject 4.5.8//EN
CALSCALE:GREGORIAN
BEGIN:VEVENT
UID:sabre-vobject-318e6f65-ec72-4647-9b3f-14db5480c949
DTSTAMP:20260419T164700Z
SUMMARY:Ingolstadt und seine Geschichte - Klassische Stadtführung
DESCRIPTION:https://regioningolstadt.com/ingolstadt-und-seine-geschichte-kl
 assische-stadtfuehrung_id37376
DTSTART;TZID=Europe/Berlin:20250518T140000
DTEND;TZID=Europe/Berlin:20250518T153100
LOCATION:Vor Tourist Information am Rathausplatz\, Moritzstraße 19\, 85049
  Ingolstadt
END:VEVENT
END:VCALENDAR
