BEGIN:VCALENDAR
VERSION:2.0
PRODID:-//Sabre//Sabre VObject 4.5.8//EN
CALSCALE:GREGORIAN
BEGIN:VEVENT
UID:sabre-vobject-64827148-1f94-44cf-bbfe-054ec3b870b9
DTSTAMP:20260422T190831Z
SUMMARY:Ingolstadt und seine Geschichte - Klassische Stadtführung
DESCRIPTION:https://regioningolstadt.com/ingolstadt-und-seine-geschichte-kl
 assische-stadtfuehrung_id37373
DTSTART;TZID=Europe/Berlin:20250511T140000
DTEND;TZID=Europe/Berlin:20250511T153100
LOCATION:Vor Tourist Information am Rathausplatz\, Moritzstraße 19\, 85049
  Ingolstadt
END:VEVENT
END:VCALENDAR
