BEGIN:VCALENDAR
VERSION:2.0
PRODID:-//Sabre//Sabre VObject 4.5.8//EN
CALSCALE:GREGORIAN
BEGIN:VEVENT
UID:sabre-vobject-bb7bc024-6cd4-4d35-afc5-f7ff59d60044
DTSTAMP:20260420T015524Z
SUMMARY:Ingolstadt und seine Geschichte - Klassische Stadtführung
DESCRIPTION:https://regioningolstadt.com/ingolstadt-und-seine-geschichte-kl
 assische-stadtfuehrung_id37355
DTSTART;TZID=Europe/Berlin:20250404T140000
DTEND;TZID=Europe/Berlin:20250404T153100
LOCATION:Vor Tourist Information am Rathausplatz\, Moritzstraße 19\, 85049
  Ingolstadt
END:VEVENT
END:VCALENDAR
