BEGIN:VCALENDAR
VERSION:2.0
PRODID:-//Sabre//Sabre VObject 4.5.8//EN
CALSCALE:GREGORIAN
BEGIN:VEVENT
UID:sabre-vobject-28d9acae-aa88-438a-8192-20fb7ec693c9
DTSTAMP:20260421T120025Z
SUMMARY:Ingolstadt und seine Geschichte - Klassische Stadtführung
DESCRIPTION:https://regioningolstadt.com/ingolstadt-und-seine-geschichte-kl
 assische-stadtfuehrung_id37354
DTSTART;TZID=Europe/Berlin:20250330T150000
DTEND;TZID=Europe/Berlin:20250330T163100
LOCATION:Vor Tourist Information am Rathausplatz\, Moritzstraße 19\, 85049
  Ingolstadt
END:VEVENT
END:VCALENDAR
