BEGIN:VCALENDAR
VERSION:2.0
PRODID:-//Sabre//Sabre VObject 4.5.8//EN
CALSCALE:GREGORIAN
BEGIN:VEVENT
UID:sabre-vobject-e5ef01bf-be64-4c35-8b2e-9fbf7d0ab802
DTSTAMP:20260422T174256Z
SUMMARY:Vortrag: Siehst du den Fehler? Wie funktionieren eigentlich Sichtpr
 üfungen mit KI in der Produktion?
DESCRIPTION:https://regioningolstadt.com/vortrag-siehst-du-den-fehler-wie-f
 unktionieren-eigentlich-sichtpruefungen-mit-ki-in-der-produktion_id37323
DTSTART;TZID=Europe/Berlin:20250327T170000
DTEND;TZID=Europe/Berlin:20250327T183000
LOCATION:Online-Veranstaltung\, \,  
END:VEVENT
END:VCALENDAR
