BEGIN:VCALENDAR
VERSION:2.0
PRODID:-//Sabre//Sabre VObject 4.5.8//EN
CALSCALE:GREGORIAN
BEGIN:VEVENT
UID:sabre-vobject-dc226b64-505b-4dec-b274-5f2143ef374f
DTSTAMP:20260421T041012Z
SUMMARY:Vortrag: Automatisierte Fahrzeuge: Ein Schlüssel zur klimaneutrale
 n Mobilität?
DESCRIPTION:https://regioningolstadt.com/vortrag-automatisierte-fahrzeuge-e
 in-schluessel-zur-klimaneutralen-mobilitaet_id37322
DTSTART;TZID=Europe/Berlin:20250320T183000
DTEND;TZID=Europe/Berlin:20250320T200000
LOCATION:Online-Veranstaltung\, \,  
END:VEVENT
END:VCALENDAR
