BEGIN:VCALENDAR
VERSION:2.0
PRODID:-//Sabre//Sabre VObject 4.5.8//EN
CALSCALE:GREGORIAN
BEGIN:VEVENT
UID:sabre-vobject-f1453857-4d05-4227-9849-04eb0c70ed9b
DTSTAMP:20260421T103651Z
SUMMARY:Sonntags?Kunst!  „Magnolienblüten aus Krepppapier“ – Worksho
 p mit Kati Jordan
DESCRIPTION:https://regioningolstadt.com/sonntags-kunst-magnolienblueten-au
 s-krepppapier-workshop-mit-kati-jordan_id37146
DTSTART;TZID=Europe/Berlin:20250330T150000
DTEND;TZID=Europe/Berlin:20250330T170000
LOCATION:Museum für Konkrete Kunst\, Tränktorstraße 6 - 8\, 85049 Ingols
 tadt
END:VEVENT
END:VCALENDAR
