BEGIN:VCALENDAR
VERSION:2.0
PRODID:-//Sabre//Sabre VObject 4.5.8//EN
CALSCALE:GREGORIAN
BEGIN:VEVENT
UID:sabre-vobject-e77fb1a0-d4c5-48e5-9b34-cfadc3d6591f
DTSTAMP:20260420T075716Z
SUMMARY:DIYnstag  „Papierzauber“ Online-Workshop mit Constanze Guhr
DESCRIPTION:https://regioningolstadt.com/diynstag-papierzauber-online-works
 hop-mit-constanze-guhr_id37145
DTSTART;TZID=Europe/Berlin:20250318T180000
DTEND;TZID=Europe/Berlin:20250318T200000
LOCATION:Museum für Konkrete Kunst ONLINE\, \,  
END:VEVENT
END:VCALENDAR
