BEGIN:VCALENDAR
VERSION:2.0
PRODID:-//Sabre//Sabre VObject 4.5.8//EN
CALSCALE:GREGORIAN
BEGIN:VEVENT
UID:sabre-vobject-716a7ca2-4225-4344-80c1-b10daf28395f
DTSTAMP:20260423T070928Z
SUMMARY:Hinter den Kulissen...des Kriseninterventionsteams
DESCRIPTION:https://regioningolstadt.com/hinter-den-kulissen-des-kriseninte
 rventionsteams_id37084
DTSTART;TZID=Europe/Berlin:20250513T183000
DTEND;TZID=Europe/Berlin:20250513T203000
LOCATION:VHS Ingolstadt\, Hallstr. 5\, 85049 Ingolstadt
END:VEVENT
END:VCALENDAR
