BEGIN:VCALENDAR
VERSION:2.0
PRODID:-//Sabre//Sabre VObject 4.5.8//EN
CALSCALE:GREGORIAN
BEGIN:VEVENT
UID:sabre-vobject-2cdb0405-4ffd-41c3-99e7-48e4a31e744e
DTSTAMP:20260421T145525Z
SUMMARY:Winter-Radtour
DESCRIPTION:https://regioningolstadt.com/winter-radtour_id37007
DTSTART;TZID=Europe/Berlin:20250322T130000
DTEND;TZID=Europe/Berlin:20250322T160000
LOCATION:RADHAUS Ingolstadt\, Bei der Arena 7\, 85053 Ingolstadt
END:VEVENT
END:VCALENDAR
