BEGIN:VCALENDAR
VERSION:2.0
PRODID:-//Sabre//Sabre VObject 4.5.8//EN
CALSCALE:GREGORIAN
BEGIN:VEVENT
UID:sabre-vobject-b8910d32-b29d-4c17-8696-cd7583514e1c
DTSTAMP:20260421T222208Z
SUMMARY:Zukunft für das Donaumoos
DESCRIPTION:https://regioningolstadt.com/zukunft-fuer-das-donaumoos_id36949
DTSTART;TZID=Europe/Berlin:20250116T080000
DTEND;TZID=Europe/Berlin:20250331T120000
LOCATION:Rathaus Karlskron\, Hauptstraße 34\, 85123 Karlskron
END:VEVENT
END:VCALENDAR
