BEGIN:VCALENDAR
VERSION:2.0
PRODID:-//Sabre//Sabre VObject 4.5.8//EN
CALSCALE:GREGORIAN
BEGIN:VEVENT
UID:sabre-vobject-abd9e845-aac4-4501-abb7-890c98ce9430
DTSTAMP:20260421T040907Z
SUMMARY:Wer dablost's - die Kabarett-Mixed-Show mit Andreas M. Hofmeir
DESCRIPTION:https://regioningolstadt.com/wer-dablost-s-die-kabarett-mixed-s
 how-mit-andreas-m-hofmeir_id36939
DTSTART;TZID=Europe/Berlin:20250330T200000
DURATION:PT30M
LOCATION:Kulturzentrum neun\, Elisabethstraße 9 a\, 85051 Ingolstadt
END:VEVENT
END:VCALENDAR
