BEGIN:VCALENDAR
VERSION:2.0
PRODID:-//Sabre//Sabre VObject 4.5.8//EN
CALSCALE:GREGORIAN
BEGIN:VEVENT
UID:sabre-vobject-8edbd788-24f8-49fb-bcac-3786a743d770
DTSTAMP:20260422T201913Z
SUMMARY:Essbare Wildpflanzen-Workshop
DESCRIPTION:https://regioningolstadt.com/essbare-wildpflanzen-workshop_id36
 898
DTSTART;TZID=Europe/Berlin:20250517T153000
DTEND;TZID=Europe/Berlin:20250517T183000
LOCATION:Piuspark\, Pavillon Imkerverein\, \, 85057 Ingolstadt
END:VEVENT
END:VCALENDAR
