BEGIN:VCALENDAR
VERSION:2.0
PRODID:-//Sabre//Sabre VObject 4.5.8//EN
CALSCALE:GREGORIAN
BEGIN:VEVENT
UID:sabre-vobject-a738b516-bc90-4ed2-8143-5cb76cfceeb0
DTSTAMP:20260421T225044Z
SUMMARY:Essbare Wildpflanzen-Workshop
DESCRIPTION:https://regioningolstadt.com/essbare-wildpflanzen-workshop_id36
 896
DTSTART;TZID=Europe/Berlin:20250329T153000
DTEND;TZID=Europe/Berlin:20250329T183000
LOCATION:Piuspark\, Pavillon Imkerverein\, \, 85057 Ingolstadt
END:VEVENT
END:VCALENDAR
