BEGIN:VCALENDAR
VERSION:2.0
PRODID:-//Sabre//Sabre VObject 4.5.8//EN
CALSCALE:GREGORIAN
BEGIN:VEVENT
UID:sabre-vobject-2814ad56-b0b5-4a53-8720-1bfa2b692f0f
DTSTAMP:20260421T012216Z
SUMMARY:Künstlergespräch mit John Schmitz - Malipa Art Room
DESCRIPTION:https://regioningolstadt.com/kuenstlergespraech-mit-john-schmit
 z-malipa-art-room_id36892
DTSTART;TZID=Europe/Berlin:20250117T180000
DTEND;TZID=Europe/Berlin:20250117T200000
LOCATION:MALIPA - The Art Room\, Taschenturmstraße 3\, 85049 Ingolstadt
END:VEVENT
END:VCALENDAR
