BEGIN:VCALENDAR
VERSION:2.0
PRODID:-//Sabre//Sabre VObject 4.5.8//EN
CALSCALE:GREGORIAN
BEGIN:VEVENT
UID:sabre-vobject-93ac3bf1-180e-4204-bb93-62b070483b20
DTSTAMP:20260423T173634Z
SUMMARY:Unterwegs mit Donaunixe Danubia
DESCRIPTION:https://regioningolstadt.com/unterwegs-mit-donaunixe-danubia_id
 36889
DTSTART;TZID=Europe/Berlin:20260424T160000
DTEND;TZID=Europe/Berlin:20260424T183000
LOCATION:Parkplatz "Schlösslwiese"\, Ringmeierbucht\, 86633 Neuburg
END:VEVENT
END:VCALENDAR
