BEGIN:VCALENDAR
VERSION:2.0
PRODID:-//Sabre//Sabre VObject 4.5.8//EN
CALSCALE:GREGORIAN
BEGIN:VEVENT
UID:sabre-vobject-e03e403f-cdbd-496c-b0bb-874e0f36741a
DTSTAMP:20260421T024606Z
SUMMARY:Irish Spring
DESCRIPTION:https://regioningolstadt.com/irish-spring_id36867
DTSTART;TZID=Europe/Berlin:20250331T200000
DURATION:PT30M
LOCATION:Kulturzentrum neun\, Elisabethstraße 9 a\, 85051 Ingolstadt
END:VEVENT
END:VCALENDAR
