BEGIN:VCALENDAR
VERSION:2.0
PRODID:-//Sabre//Sabre VObject 4.5.8//EN
CALSCALE:GREGORIAN
BEGIN:VEVENT
UID:sabre-vobject-e9a3f225-f9bc-4e1b-a341-f8d43c7ec21e
DTSTAMP:20260420T045650Z
SUMMARY:Einstieg für den Handel in Social Media mit Instagram & TikTok
DESCRIPTION:https://regioningolstadt.com/einstieg-fuer-den-handel-in-social
 -media-mit-instagram-tiktok_id36861
DTSTART;TZID=Europe/Berlin:20250122T083000
DTEND;TZID=Europe/Berlin:20250122T093000
LOCATION:Online-Veranstaltung\, \,  
END:VEVENT
END:VCALENDAR
