BEGIN:VCALENDAR
VERSION:2.0
PRODID:-//Sabre//Sabre VObject 4.5.8//EN
CALSCALE:GREGORIAN
BEGIN:VEVENT
UID:sabre-vobject-a55604f0-79db-41a1-94e1-255aad2bae41
DTSTAMP:20260422T204024Z
SUMMARY:HY10-Clustertreffen
DESCRIPTION:https://regioningolstadt.com/hy10-clustertreffen_id36828
DTSTART;TZID=Europe/Berlin:20250327T150000
DTEND;TZID=Europe/Berlin:20250327T190000
LOCATION:Kläranlage Pfaffenhofen\, Joseph-Frauenhofer Straße 58\, 85276 P
 faffenhofen
END:VEVENT
END:VCALENDAR
