BEGIN:VCALENDAR
VERSION:2.0
PRODID:-//Sabre//Sabre VObject 4.5.8//EN
CALSCALE:GREGORIAN
BEGIN:VEVENT
UID:sabre-vobject-6d0159ca-067a-4939-9bff-53d8ae6c6094
DTSTAMP:20260420T145805Z
SUMMARY:FARBENRAUSCH
DESCRIPTION:https://regioningolstadt.com/farbenrausch_id36822
DTSTART;TZID=Europe/Berlin:20250119T110000
DTEND;TZID=Europe/Berlin:20250314T000000
LOCATION:Neue Galerie\, das MO\, Bergbräustraße 7\, 85049 Ingolstadt
END:VEVENT
END:VCALENDAR
