BEGIN:VCALENDAR
VERSION:2.0
PRODID:-//Sabre//Sabre VObject 4.5.8//EN
CALSCALE:GREGORIAN
BEGIN:VEVENT
UID:sabre-vobject-1e249c80-2ad6-4171-a7cd-50333a58a48a
DTSTAMP:20260421T191451Z
SUMMARY:Informationsveranstaltung zur BayVFP-Förderlinie Digitalisierung
DESCRIPTION:https://regioningolstadt.com/informationsveranstaltung-zur-bayv
 fp-foerderlinie-digitalisierung_id36821
DTSTART;TZID=Europe/Berlin:20250116T100000
DTEND;TZID=Europe/Berlin:20250116T120000
LOCATION:Online-Veranstaltung\, \,  
END:VEVENT
END:VCALENDAR
