BEGIN:VCALENDAR
VERSION:2.0
PRODID:-//Sabre//Sabre VObject 4.5.8//EN
CALSCALE:GREGORIAN
BEGIN:VEVENT
UID:sabre-vobject-ee73b6f6-392c-4ca5-a13c-9170253ce2de
DTSTAMP:20260422T133840Z
SUMMARY:Forschung\, Entwicklung und Innovation - welche Förderungen gibt e
 s?
DESCRIPTION:https://regioningolstadt.com/forschung-entwicklung-und-innovati
 on-welche-foerderungen-gibt-es_id36819
DTSTART;TZID=Europe/Berlin:20250115T123000
DTEND;TZID=Europe/Berlin:20250115T130000
LOCATION:Online-Veranstaltung\, \,  
END:VEVENT
END:VCALENDAR
