BEGIN:VCALENDAR
VERSION:2.0
PRODID:-//Sabre//Sabre VObject 4.5.8//EN
CALSCALE:GREGORIAN
BEGIN:VEVENT
UID:sabre-vobject-6ac24249-7b41-4a75-a015-b57b09cd0994
DTSTAMP:20260422T104435Z
SUMMARY:Mauerner Höhlen und Wallfahrtskirche Mariä Himmelfahrt - Öffentl
 iche Führung
DESCRIPTION:https://regioningolstadt.com/mauerner-hoehlen-und-wallfahrtskir
 che-mariae-himmelfahrt-oeffentliche-fuehrung_id36815
DTSTART;TZID=Europe/Berlin:20251019T140000
DTEND;TZID=Europe/Berlin:20251019T160000
LOCATION:Rennertshofen-Mauern\, Treffpunkt Informationstafeln Parkplatz Mau
 erner Höhlen\, Quellenweg 2\, 86643 Rennertshofen
END:VEVENT
END:VCALENDAR
