BEGIN:VCALENDAR
VERSION:2.0
PRODID:-//Sabre//Sabre VObject 4.5.8//EN
CALSCALE:GREGORIAN
BEGIN:VEVENT
UID:sabre-vobject-f35ae035-836d-46b6-880f-22f9f3478b18
DTSTAMP:20260422T121413Z
SUMMARY:Wanderung mit der Donaunixe Danubia - Öffentliche Führung
DESCRIPTION:https://regioningolstadt.com/wanderung-mit-der-donaunixe-danubi
 a-oeffentliche-fuehrung_id36814
DTSTART;TZID=Europe/Berlin:20251018T140000
DTEND;TZID=Europe/Berlin:20251018T160000
LOCATION:86633 Neuburg an der Donau\, Treffpunkt Schlösslwiese\, Zur Ringm
 eierbucht 4\, 86633 Neuburg an der Donau
END:VEVENT
END:VCALENDAR
