BEGIN:VCALENDAR
VERSION:2.0
PRODID:-//Sabre//Sabre VObject 4.5.8//EN
CALSCALE:GREGORIAN
BEGIN:VEVENT
UID:sabre-vobject-eb3ca180-63ef-45f8-8619-39ab60e58355
DTSTAMP:20260422T221451Z
SUMMARY:Wanderung mit der Donaunixe Danubia - Öffentliche Führung
DESCRIPTION:https://regioningolstadt.com/wanderung-mit-der-donaunixe-danubi
 a-oeffentliche-fuehrung_id36813
DTSTART;TZID=Europe/Berlin:20250928T140000
DTEND;TZID=Europe/Berlin:20250928T160000
LOCATION:86633 Neuburg an der Donau\, Treffpunkt Schlösslwiese\, Zur Ringm
 eierbucht 4\, 86633 Neuburg an der Donau
END:VEVENT
END:VCALENDAR
