BEGIN:VCALENDAR
VERSION:2.0
PRODID:-//Sabre//Sabre VObject 4.5.8//EN
CALSCALE:GREGORIAN
BEGIN:VEVENT
UID:sabre-vobject-01734071-ff9e-49fd-8847-efd4b3ffb353
DTSTAMP:20260423T011027Z
SUMMARY:Mauerner Höhlen und Wallfahrtskirche Mariä Himmelfahrt - Öffentl
 iche Führung
DESCRIPTION:https://regioningolstadt.com/mauerner-hoehlen-und-wallfahrtskir
 che-mariae-himmelfahrt-oeffentliche-fuehrung_id36812
DTSTART;TZID=Europe/Berlin:20250927T140000
DTEND;TZID=Europe/Berlin:20250927T160000
LOCATION:Rennertshofen-Mauern\, Treffpunkt Informationstafeln Parkplatz Mau
 erner Höhlen\, Quellenweg 2\, 86643 Rennertshofen
END:VEVENT
END:VCALENDAR
