BEGIN:VCALENDAR
VERSION:2.0
PRODID:-//Sabre//Sabre VObject 4.5.8//EN
CALSCALE:GREGORIAN
BEGIN:VEVENT
UID:sabre-vobject-50b47a6d-c66f-40ca-b053-7a0714c205d1
DTSTAMP:20260423T054028Z
SUMMARY:Schloss Sandizell mit Asamkirche - Öffentliche Führung
DESCRIPTION:https://regioningolstadt.com/schloss-sandizell-mit-asamkirche-o
 effentliche-fuehrung_id36811
DTSTART;TZID=Europe/Berlin:20250920T140000
DURATION:PT30M
LOCATION:86529 Schrobenhausen\, Schloss Sandizell\, Schloßstraße 25\, 865
 29 Schrobenhausen
END:VEVENT
END:VCALENDAR
