BEGIN:VCALENDAR
VERSION:2.0
PRODID:-//Sabre//Sabre VObject 4.5.8//EN
CALSCALE:GREGORIAN
BEGIN:VEVENT
UID:sabre-vobject-21098404-2f0d-4cb0-94c0-37d44bf9a67b
DTSTAMP:20260420T030255Z
SUMMARY:In Preparation  Das offene Labor
DESCRIPTION:https://regioningolstadt.com/in-preparation-das-offene-labor_id
 36793
DTSTART;TZID=Europe/Berlin:20250122T100000
DTEND;TZID=Europe/Berlin:20250122T170000
LOCATION:Museum für Konkrete Kunst\, Tränktorstraße 6 - 8\, 85049 Ingols
 tadt
END:VEVENT
END:VCALENDAR
