BEGIN:VCALENDAR
VERSION:2.0
PRODID:-//Sabre//Sabre VObject 4.5.8//EN
CALSCALE:GREGORIAN
BEGIN:VEVENT
UID:sabre-vobject-4b15d51e-0801-4ca9-9d1a-313e43499076
DTSTAMP:20260421T205302Z
SUMMARY:BauVision | Vernetzen\, Erfahrungen teilen\, Wissen vermehren - Dig
 itale Geschäftsprozesse und KI im Baugewerbe
DESCRIPTION:https://regioningolstadt.com/bauvision-vernetzen-erfahrungen-te
 ilen-wissen-vermehren-digitale-geschaeftsprozesse-und-ki-im-baugewerbe_id3
 6792
DTSTART;TZID=Europe/Berlin:20250116T093000
DTEND;TZID=Europe/Berlin:20250116T103000
LOCATION:Online-Veranstaltung\, \,  
END:VEVENT
END:VCALENDAR
