BEGIN:VCALENDAR
VERSION:2.0
PRODID:-//Sabre//Sabre VObject 4.5.8//EN
CALSCALE:GREGORIAN
BEGIN:VEVENT
UID:sabre-vobject-41378263-ce55-4a77-ae47-bf16450aa097
DTSTAMP:20260422T024254Z
SUMMARY:Restaurierungs-Häppchen  Ein Gespräch zum Offenen Labor im MKK
DESCRIPTION:https://regioningolstadt.com/restaurierungs-haeppchen-ein-gespr
 aech-zum-offenen-labor-im-mkk_id36791
DTSTART;TZID=Europe/Berlin:20250115T190000
DTEND;TZID=Europe/Berlin:20250115T203000
LOCATION:Museum für Konkrete Kunst\, Tränktorstraße 6 - 8\, 85049 Ingols
 tadt
END:VEVENT
END:VCALENDAR
