BEGIN:VCALENDAR
VERSION:2.0
PRODID:-//Sabre//Sabre VObject 4.5.8//EN
CALSCALE:GREGORIAN
BEGIN:VEVENT
UID:sabre-vobject-f83ee457-839d-4e52-a038-8845c08e7be0
DTSTAMP:20260422T192432Z
SUMMARY:Kollaborative Robotik – Grundlagen\, Endeffektortechnik und Mensc
 h-Roboter-Kollaboration (MRK) für KMU​
DESCRIPTION:https://regioningolstadt.com/kollaborative-robotik-grundlagen-e
 ndeffektortechnik-und-mensch-roboter-kollaboration-mrk-fuer-kmu_id36790
DTSTART;TZID=Europe/Berlin:20250114T103000
DTEND;TZID=Europe/Berlin:20250114T120000
LOCATION:Online-Veranstaltung\, \,  
END:VEVENT
END:VCALENDAR
