BEGIN:VCALENDAR
VERSION:2.0
PRODID:-//Sabre//Sabre VObject 4.5.8//EN
CALSCALE:GREGORIAN
BEGIN:VEVENT
UID:sabre-vobject-42bedb51-4edb-4105-a1c2-62167450a2e0
DTSTAMP:20260423T024953Z
SUMMARY:Muttersprachliches Vorlesen in Ungarisch
DESCRIPTION:https://regioningolstadt.com/muttersprachliches-vorlesen-in-ung
 arisch_id36735
DTSTART;TZID=Europe/Berlin:20250512T170000
DTEND;TZID=Europe/Berlin:20250512T174500
LOCATION:Stadtbücherei im Herzogskasten\, Hallstraße 2 - 4\, 85049 Ingols
 tadt
END:VEVENT
END:VCALENDAR
