BEGIN:VCALENDAR
VERSION:2.0
PRODID:-//Sabre//Sabre VObject 4.5.8//EN
CALSCALE:GREGORIAN
BEGIN:VEVENT
UID:sabre-vobject-a1d2952e-c3d8-48a5-a814-207ee9178233
DTSTAMP:20260421T220635Z
SUMMARY:Seitenzauber Buchmesse
DESCRIPTION:https://regioningolstadt.com/seitenzauber-buchmesse_id36734
DTSTART;TZID=Europe/Berlin:20250510T100000
DTEND;TZID=Europe/Berlin:20250510T170000
LOCATION:Kulturzentrum neun\, Elisabethstraße 9 a\, 85051 Ingolstadt
END:VEVENT
END:VCALENDAR
