BEGIN:VCALENDAR
VERSION:2.0
PRODID:-//Sabre//Sabre VObject 4.5.8//EN
CALSCALE:GREGORIAN
BEGIN:VEVENT
UID:sabre-vobject-3276fab0-e2dc-46af-ad8c-85f5c6026157
DTSTAMP:20260421T143206Z
SUMMARY:Muttersprachliches Vorlesen in Rumänisch
DESCRIPTION:https://regioningolstadt.com/muttersprachliches-vorlesen-in-rum
 aenisch_id36732
DTSTART;TZID=Europe/Berlin:20250509T163000
DTEND;TZID=Europe/Berlin:20250509T173000
LOCATION:Stadtbücherei im Herzogskasten\, Hallstraße 2 - 4\, 85049 Ingols
 tadt
END:VEVENT
END:VCALENDAR
