BEGIN:VCALENDAR
VERSION:2.0
PRODID:-//Sabre//Sabre VObject 4.5.8//EN
CALSCALE:GREGORIAN
BEGIN:VEVENT
UID:sabre-vobject-7e3dc6b1-6b8e-42bc-b73f-eb4e18609dba
DTSTAMP:20260420T155635Z
SUMMARY:Muttersprachliches Vorlesen in Spanisch
DESCRIPTION:https://regioningolstadt.com/muttersprachliches-vorlesen-in-spa
 nisch_id36725
DTSTART;TZID=Europe/Berlin:20250402T160000
DTEND;TZID=Europe/Berlin:20250402T170000
LOCATION:Stadtbücherei im Herzogskasten\, Hallstraße 2 - 4\, 85049 Ingols
 tadt
END:VEVENT
END:VCALENDAR
