BEGIN:VCALENDAR
VERSION:2.0
PRODID:-//Sabre//Sabre VObject 4.5.8//EN
CALSCALE:GREGORIAN
BEGIN:VEVENT
UID:sabre-vobject-e9285857-ee12-44a3-8544-594879080405
DTSTAMP:20260422T121306Z
SUMMARY:Muttersprachliches Vorlesen in Türkisch
DESCRIPTION:https://regioningolstadt.com/muttersprachliches-vorlesen-in-tue
 rkisch_id36721
DTSTART;TZID=Europe/Berlin:20250328T170000
DTEND;TZID=Europe/Berlin:20250328T174500
LOCATION:Stadtbücherei im Herzogskasten\, Hallstraße 2 - 4\, 85049 Ingols
 tadt
END:VEVENT
END:VCALENDAR
