BEGIN:VCALENDAR
VERSION:2.0
PRODID:-//Sabre//Sabre VObject 4.5.8//EN
CALSCALE:GREGORIAN
BEGIN:VEVENT
UID:sabre-vobject-89efa08e-96f4-4f68-bae0-db26d35fd8f9
DTSTAMP:20260420T174934Z
SUMMARY:Muttersprachliches Vorlesen in Spanisch
DESCRIPTION:https://regioningolstadt.com/muttersprachliches-vorlesen-in-spa
 nisch_id36720
DTSTART;TZID=Europe/Berlin:20250319T160000
DTEND;TZID=Europe/Berlin:20250319T170000
LOCATION:Stadtbücherei im Herzogskasten\, Hallstraße 2 - 4\, 85049 Ingols
 tadt
END:VEVENT
END:VCALENDAR
