BEGIN:VCALENDAR
VERSION:2.0
PRODID:-//Sabre//Sabre VObject 4.5.8//EN
CALSCALE:GREGORIAN
BEGIN:VEVENT
UID:sabre-vobject-a1db0085-bb37-4769-90ce-e4739fc16cc0
DTSTAMP:20260420T030150Z
SUMMARY:Muttersprachliches Vorlesen in Ungarisch
DESCRIPTION:https://regioningolstadt.com/muttersprachliches-vorlesen-in-ung
 arisch_id36719
DTSTART;TZID=Europe/Berlin:20250317T170000
DTEND;TZID=Europe/Berlin:20250317T174500
LOCATION:Stadtbücherei im Herzogskasten\, Hallstraße 2 - 4\, 85049 Ingols
 tadt
END:VEVENT
END:VCALENDAR
