BEGIN:VCALENDAR
VERSION:2.0
PRODID:-//Sabre//Sabre VObject 4.5.8//EN
CALSCALE:GREGORIAN
BEGIN:VEVENT
UID:sabre-vobject-12f3ac16-0d4d-4bfd-aad9-b24f5aad6e72
DTSTAMP:20260419T144619Z
SUMMARY:Denkmalschutz und Denkmalpflege als identitätsstiftende Säule der
  Stadtentwicklung am Beispiel der Festungsbauten in Ingolstadt
DESCRIPTION:https://regioningolstadt.com/denkmalschutz-und-denkmalpflege-al
 s-identitaetsstiftende-saeule-der-stadtentwicklung-am-beispiel-der-festung
 sbauten-in-ingolstadt_id36710
DTSTART;TZID=Europe/Berlin:20250122T180000
DTEND;TZID=Europe/Berlin:20250122T193000
LOCATION:Neues Schloss Ingolstadt\, Paradeplatz 4\, 85049 Ingolstadt
END:VEVENT
END:VCALENDAR
