BEGIN:VCALENDAR
VERSION:2.0
PRODID:-//Sabre//Sabre VObject 4.5.8//EN
CALSCALE:GREGORIAN
BEGIN:VEVENT
UID:sabre-vobject-f9879694-d961-4152-9271-91d2bf82cd90
DTSTAMP:20260420T063501Z
SUMMARY:Mittel - und Südamerika hautnah: Drei Länder ein Kind und 90 Tage
  Abenteuer
DESCRIPTION:https://regioningolstadt.com/mittel-und-suedamerika-hautnah-dre
 i-laender-ein-kind-und-90-tage-abenteuer_id36709
DTSTART;TZID=Europe/Berlin:20250121T190000
DTEND;TZID=Europe/Berlin:20250121T213000
LOCATION:DAV Alpenvereins und Kletterzentrum Ringsee und Ingolstadt\, Bagge
 rweg 2\, 85051 Ingolstadt
END:VEVENT
END:VCALENDAR
