BEGIN:VCALENDAR
VERSION:2.0
PRODID:-//Sabre//Sabre VObject 4.5.8//EN
CALSCALE:GREGORIAN
BEGIN:VEVENT
UID:sabre-vobject-d0da0f4c-3df7-47cd-a731-241e9a3e4dac
DTSTAMP:20260422T222327Z
SUMMARY:Muttersprachliches Vorlesen in Ungarisch
DESCRIPTION:https://regioningolstadt.com/muttersprachliches-vorlesen-in-ung
 arisch_id36705
DTSTART;TZID=Europe/Berlin:20250113T170000
DTEND;TZID=Europe/Berlin:20250113T174500
LOCATION:Stadtbücherei im Herzogskasten\, Hallstraße 2 - 4\, 85049 Ingols
 tadt
END:VEVENT
END:VCALENDAR
