BEGIN:VCALENDAR
VERSION:2.0
PRODID:-//Sabre//Sabre VObject 4.5.8//EN
CALSCALE:GREGORIAN
BEGIN:VEVENT
UID:sabre-vobject-f0573e97-e671-47f4-b6f7-be3d29b15f73
DTSTAMP:20260423T085455Z
SUMMARY:What You Seek Is Seeking You
DESCRIPTION:https://regioningolstadt.com/what-you-seek-is-seeking-you_id367
 04
DTSTART;TZID=Europe/Berlin:20250111T110000
DTEND;TZID=Europe/Berlin:20250216T180000
LOCATION:Städtische Galerie im Theater Ingolstadt\, Schloßlände 1\, 8504
 9 Ingolstadt
END:VEVENT
END:VCALENDAR
