BEGIN:VCALENDAR
VERSION:2.0
PRODID:-//Sabre//Sabre VObject 4.5.8//EN
CALSCALE:GREGORIAN
BEGIN:VEVENT
UID:sabre-vobject-3a42439d-a264-45b7-b87e-4d83ca8253c4
DTSTAMP:20260423T150704Z
SUMMARY:Vernissage: What You Seek Is Seeking You
DESCRIPTION:https://regioningolstadt.com/vernissage-what-you-seek-is-seekin
 g-you_id36703
DTSTART;TZID=Europe/Berlin:20250110T190000
DURATION:PT30M
LOCATION:Städtische Galerie im Theater Ingolstadt\, Schloßlände 1\, 8504
 9 Ingolstadt
END:VEVENT
END:VCALENDAR
