BEGIN:VCALENDAR
VERSION:2.0
PRODID:-//Sabre//Sabre VObject 4.5.8//EN
CALSCALE:GREGORIAN
BEGIN:VEVENT
UID:sabre-vobject-426893a9-812e-4bd0-822b-920d03824b6e
DTSTAMP:20260424T001254Z
SUMMARY:Radlertreff
DESCRIPTION:https://regioningolstadt.com/radlertreff_id36700
DTSTART;TZID=Europe/Berlin:20250109T190000
DTEND;TZID=Europe/Berlin:20250109T213000
LOCATION:DJK Vereinsgaststätte\, Lindberghstraße 73\, 85051 Ingolstadt
END:VEVENT
END:VCALENDAR
