BEGIN:VCALENDAR
VERSION:2.0
PRODID:-//Sabre//Sabre VObject 4.5.8//EN
CALSCALE:GREGORIAN
BEGIN:VEVENT
UID:sabre-vobject-69ad5396-0577-422b-9174-25ce2c801b5c
DTSTAMP:20260420T130613Z
SUMMARY:Vorführung der Modelleisenbahn im Spielzeugmuseum
DESCRIPTION:https://regioningolstadt.com/vorfuehrung-der-modelleisenbahn-im
 -spielzeugmuseum_id36692
DTSTART;TZID=Europe/Berlin:20250119T133000
DTEND;TZID=Europe/Berlin:20250119T163000
LOCATION:Stadtmuseum im Kavalier Hepp\, Auf der Schanz 45\, 85049 Ingolstad
 t
END:VEVENT
END:VCALENDAR
