BEGIN:VCALENDAR
VERSION:2.0
PRODID:-//Sabre//Sabre VObject 4.5.8//EN
CALSCALE:GREGORIAN
BEGIN:VEVENT
UID:sabre-vobject-29436f05-9cfd-47a9-a7e7-f06f91bbe8ce
DTSTAMP:20260420T174928Z
SUMMARY:Zwergenwerkstatt: Kunst
DESCRIPTION:https://regioningolstadt.com/zwergenwerkstatt-kunst_id36691
DTSTART;TZID=Europe/Berlin:20250118T143000
DTEND;TZID=Europe/Berlin:20250118T163000
LOCATION:Stadtmuseum im Kavalier Hepp\, Auf der Schanz 45\, 85049 Ingolstad
 t
END:VEVENT
END:VCALENDAR
