BEGIN:VCALENDAR
VERSION:2.0
PRODID:-//Sabre//Sabre VObject 4.5.8//EN
CALSCALE:GREGORIAN
BEGIN:VEVENT
UID:sabre-vobject-6778ca54-0d9d-40ce-8ede-cd717c9565f3
DTSTAMP:20260420T191943Z
SUMMARY:Kinder im Museum: Auf der Spur von Räubern und Piraten
DESCRIPTION:https://regioningolstadt.com/kinder-im-museum-auf-der-spur-von-
 raeubern-und-piraten_id36690
DTSTART;TZID=Europe/Berlin:20250118T103000
DTEND;TZID=Europe/Berlin:20250118T133000
LOCATION:Stadtmuseum im Kavalier Hepp\, Auf der Schanz 45\, 85049 Ingolstad
 t
END:VEVENT
END:VCALENDAR
