BEGIN:VCALENDAR
VERSION:2.0
PRODID:-//Sabre//Sabre VObject 4.5.8//EN
CALSCALE:GREGORIAN
BEGIN:VEVENT
UID:sabre-vobject-160277ae-2f68-4f78-bcd4-358bc4a7b921
DTSTAMP:20260420T204622Z
SUMMARY:Erlebnisführung: Nachts im Stadtmuseum
DESCRIPTION:https://regioningolstadt.com/erlebnisfuehrung-nachts-im-stadtmu
 seum_id36689
DTSTART;TZID=Europe/Berlin:20250117T203000
DURATION:PT30M
LOCATION:Stadtmuseum im Kavalier Hepp\, Auf der Schanz 45\, 85049 Ingolstad
 t
END:VEVENT
END:VCALENDAR
