BEGIN:VCALENDAR
VERSION:2.0
PRODID:-//Sabre//Sabre VObject 4.5.8//EN
CALSCALE:GREGORIAN
BEGIN:VEVENT
UID:sabre-vobject-5a8906a7-1cfb-417a-8132-efccca7dd28a
DTSTAMP:20260420T235304Z
SUMMARY:Erlebnisführung Nachts im Stadtmuseum
DESCRIPTION:https://regioningolstadt.com/erlebnisfuehrung-nachts-im-stadtmu
 seum_id36688
DTSTART;TZID=Europe/Berlin:20250117T190000
DURATION:PT30M
LOCATION:Stadtmuseum im Kavalier Hepp\, Auf der Schanz 45\, 85049 Ingolstad
 t
END:VEVENT
END:VCALENDAR
