BEGIN:VCALENDAR
VERSION:2.0
PRODID:-//Sabre//Sabre VObject 4.5.8//EN
CALSCALE:GREGORIAN
BEGIN:VEVENT
UID:sabre-vobject-6a2fde96-5bd7-4350-8c8d-61e6caf2d5e4
DTSTAMP:20260423T115435Z
SUMMARY:Kinder im Museum: Rüstige Ritter: Von einem Ritter\, der alles wol
 lte und nur wenig bekam
DESCRIPTION:https://regioningolstadt.com/kinder-im-museum-ruestige-ritter-v
 on-einem-ritter-der-alles-wollte-und-nur-wenig-bekam_id36640
DTSTART;TZID=Europe/Berlin:20250111T103000
DTEND;TZID=Europe/Berlin:20250111T123000
LOCATION:Zentrum Stadtgeschichte\, \,  
END:VEVENT
END:VCALENDAR
